BEGIN:VCALENDAR
VERSION:2.0
PRODID:-//eventon.com NONSGML v1.0//EN
CALSCALE:GREGORIAN
METHOD:PUBLISH
BEGIN:VEVENT
UID:69ed52c0f13e4
DTSTAMP:20260425T234816Z
DTSTART:20200706T100000Z
DTEND:20200712T140000Z
LOCATION:Yoga Vidya Yogaweg 1\,  32805 Horn-Bad Meinberg
SUMMARY:Sommer Retreat "Erfolgreich dein wahres SELBST erfahren" mit Andrea Hanheide und Andreas Pröhl
DESCRIPTION:&#8220;Dein VATER ist dir so nah\,  wie es dein Bruder ist. Was
  aber könnte dir noch näher als dein SELBST sein?&#8221;* Dieses Retreat 
 bietet eine Zeit und einen Ort\,  in denen du aus dem Denken der Welt ausst
 eigen kannst. Ebenso kannst du dich der Botschaft und der Erfahrung des Kur
 ses[..]\nhttps://andreasproehl.com/events/sommer-retreat-erfolgreich-dein-w
 ahres-selbst-erfahren-mit-andrea-hanheide-und-andreas-proehl/
URL:https://andreasproehl.com/events/sommer-retreat-erfolgreich-dein-wahres-selbst-erfahren-mit-andrea-hanheide-und-andreas-proehl/
END:VEVENT
END:VCALENDAR