BEGIN:VCALENDAR
VERSION:2.0
PRODID:-//eventon.com NONSGML v1.0//EN
CALSCALE:GREGORIAN
METHOD:PUBLISH
BEGIN:VEVENT
UID:69e885b3459f2
DTSTAMP:20260422T082419Z
DTSTART:20251017T190000Z
DTEND:20251019T153000Z
LOCATION:Zoom
SUMMARY:Holy Shift! – Wie du deine Beziehung in Licht verwandelst.
DESCRIPTION::root { --brand:#E37246; --text:#3D5166; --muted:#6b7a8c; --bg:
 #fff; --border:#eef1f5; --ring:rgba(227\, 114\, 70\, .22); } .acim-card{fon
 t-family:system-ui\, -apple-system\, Segoe UI\, Roboto\, Inter\, Arial\, sa
 ns-serif;color:var(--text);background:var(--bg);border:1px solid var(--bord
 er);border-radius:18px;box-shadow:0 6px 18px rgba(0\, 0\, 0\, .06);padding:
 24px;max-width:880px;margin:0 auto 28px} .acim-card h1\, .acim-card h2{line
 -height:1.2;margin:.2em 0 .4em} .acim-card h1{font-size:clamp(1.6rem\, 2.6v
 w\, 2.2rem)} .acim-card h2{font-size:clamp(1.2rem\, 2.2vw\, 1.4rem);margin-
 top:20px} .topbar{display:flex;align-items:center;justify-content:space-bet
 ween;gap:12px;margin-bottom:14px} .badge{display:inline-block;background:va
 r(--ring);color:var(--brand);border:1px solid var(--brand);border-radius:99
 9px;padding:6px 12px;font-weight:600;font-size:.85rem} .btn{display:inline-
 block;background:var(--brand);color:#fff !important;text-decoration:none;fo
 nt-weight:700;border-radius:12px;padding:10px 16px;transition:transform .05
 s ease\,  box-shadow .2s ease;box-shadow:0 6px 14px rgba(227\, 114\, 70\, .
 28)} .btn:hover{transform:translateY(-1px);box-shadow:0 10px 18px rgba(227\
 , 114\, 70\, .34)} .btn.secondary{background:#fff;border:2px solid var(--br
 and);color:var(--brand)[..]\nhttps://andreasproehl.com/events/holy-shift-wi
 e-du-deine-beziehung-in-licht-verwandelst/
URL:https://andreasproehl.com/events/holy-shift-wie-du-deine-beziehung-in-licht-verwandelst/
END:VEVENT
END:VCALENDAR