BEGIN:VCALENDAR
VERSION:2.0
PRODID:-//eventon.com NONSGML v1.0//EN
CALSCALE:GREGORIAN
METHOD:PUBLISH
BEGIN:VEVENT
UID:69ed582de9bdb
DTSTAMP:20260426T001125Z
DTSTART:20240122T203000Z
DTEND:20240214T220000Z
LOCATION:Zoom
SUMMARY:Lehrer-Mentoring-Programm 2024
DESCRIPTION:&nbsp; &nbsp; &#8220;Wer sind die Lehrer GOTTES? Ein Lehrer GOT
 TES ist jeder\,  der sich entscheidet\,  einer zu sein. &#8230; Sie kommen 
 von überall her auf der Welt. &#8230; Sie sind diejenigen\,  die geantwort
 et haben.&#8221;* &nbsp; &nbsp; Ein tief verbindendes Programm in einer bes
 chleunigten Zeit &nbsp; Das Mentoring-Programm für Lehrer richtet[..]\nhtt
 ps://andreasproehl.com/events/lehrer-mentoring-programm-2024/
URL:https://andreasproehl.com/events/lehrer-mentoring-programm-2024/
END:VEVENT
END:VCALENDAR