BEGIN:VCALENDAR
VERSION:2.0
PRODID:-//eventon.com NONSGML v1.0//EN
CALSCALE:GREGORIAN
METHOD:PUBLISH
BEGIN:VEVENT
UID:69e7447f1a169
DTSTAMP:20260421T093351Z
DTSTART:20230721T190000Z
DTEND:20230723T153000Z
LOCATION:Kirchmöser
SUMMARY:Das glückliche Ende aller Beziehungen – Kirchmöser
DESCRIPTION:&nbsp; „Eine enge Beziehung mit IHM einzugehen heißt\,  Bezi
 ehungen als wirklich zu akzeptieren und durch ihre Wirklichkeit alle Illusi
 onen für die Wirklichkeit deiner Beziehung zu GOTT hinzugeben. Gelobt sei 
 deine Beziehung zu IHM und keinem anderen. Die Wahrheit liegt dort und sons
 t nirgends. Du wählst dies oder nichts.“* &nbsp; &nbsp;[..]\nhttps://and
 reasproehl.com/events/das-glueckliche-ende-aller-beziehungen-kirchmoeser/
URL:https://andreasproehl.com/events/das-glueckliche-ende-aller-beziehungen-kirchmoeser/
END:VEVENT
END:VCALENDAR