BEGIN:VCALENDAR
VERSION:2.0
PRODID:-//eventon.com NONSGML v1.0//EN
CALSCALE:GREGORIAN
METHOD:PUBLISH
BEGIN:VEVENT
UID:69ecf69d3986c
DTSTAMP:20260425T171509Z
DTSTART:20230616T200000Z
DTEND:20230618T213000Z
LOCATION:Zoom
SUMMARY:Sühne ist für alle da – Online auf Zoom
DESCRIPTION:&nbsp; SÜHNE ist für alle da\,  weil sie die Art und Weise is
 t\,  die Überzeugung aufzuheben\,  dass irgendetwas nur für dich alleine 
 da ist. Vergeben heißt übersehen. Sieh also über Fehler hinweg und lass 
 deine Wahrnehmung nicht darauf ruhen\,  denn du wirst glauben\,  was deine 
 Wahrnehmung enthält.* &nbsp; &nbsp; „Sühne“[..]\nhttps://andreasproeh
 l.com/events/suehne-ist-fuer-alle-da-online-auf-zoom/
URL:https://andreasproehl.com/events/suehne-ist-fuer-alle-da-online-auf-zoom/
END:VEVENT
END:VCALENDAR